BEGIN:VCALENDAR
VERSION:2.0
PRODID:-//wp-events-plugin.com//7.2.3.1//EN
TZID:Europe/Paris
X-WR-TIMEZONE:Europe/Paris
BEGIN:VEVENT
UID:4030@agenda24.fr
DTSTART;TZID=Europe/Paris:20241109T200000
DTEND;TZID=Europe/Paris:20241109T200000
DTSTAMP:20241030T091146Z
URL:https://agenda24.fr/evenements/laventura-repas-dansant/
SUMMARY:L'Aventura - repas dansant
DESCRIPTION:
CATEGORIES:Soirées dansantes
LOCATION:Salle des fêtes\, Salle des fêtes\, Mouzens\, France
GEO:44.84487;1.01366
X-APPLE-STRUCTURED-LOCATION;VALUE=URI;X-ADDRESS=Salle des fêtes\, Mouzens\
 , France;X-APPLE-RADIUS=100;X-TITLE=Salle des fêtes:geo:44.84487,1.01366
END:VEVENT
BEGIN:VTIMEZONE
TZID:Europe/Paris
X-LIC-LOCATION:Europe/Paris
BEGIN:STANDARD
DTSTART:20241027T020000
TZOFFSETFROM:+0200
TZOFFSETTO:+0100
TZNAME:CET
END:STANDARD
END:VTIMEZONE
END:VCALENDAR