BEGIN:VCALENDAR
VERSION:2.0
PRODID:-//wp-events-plugin.com//7.2.3.1//EN
TZID:Europe/Paris
X-WR-TIMEZONE:Europe/Paris
BEGIN:VEVENT
UID:9659@agenda24.fr
DTSTART;TZID=Europe/Paris:20251122T200000
DTEND;TZID=Europe/Paris:20251122T200000
DTSTAMP:20251101T090408Z
URL:https://agenda24.fr/evenements/laventura-repas-dansant-2/
SUMMARY:L'Aventura - Repas dansant
DESCRIPTION:L'Association L'AVENTURA vous propose\nSamedi 22 Novembre à 20
 H00\nUn Repas Dansant ( traiteur Sylvain Bounichou)\nAu profit des réside
 nts de la Maison Perce Neige de Gourdon.\nAvec pour l'ambiance le Groupe J
 N'S !\nInfos+réservations: 0553298812 / 0680858591
CATEGORIES:Soirées dansantes
LOCATION:Salle des fêtes de Mouzens\, Salle des fêtes de Mouzens\, Castel
 s\, France
GEO:44.8487444;1.01467839
X-APPLE-STRUCTURED-LOCATION;VALUE=URI;X-ADDRESS=Salle des fêtes de Mouzens
 \, Castels\, France;X-APPLE-RADIUS=100;X-TITLE=Salle des fêtes de Mouzens
 :geo:44.8487444,1.01467839
END:VEVENT
BEGIN:VTIMEZONE
TZID:Europe/Paris
X-LIC-LOCATION:Europe/Paris
BEGIN:STANDARD
DTSTART:20251026T020000
TZOFFSETFROM:+0200
TZOFFSETTO:+0100
TZNAME:CET
END:STANDARD
END:VTIMEZONE
END:VCALENDAR