BEGIN:VCALENDAR
VERSION:2.0
PRODID:-//wp-events-plugin.com//7.2.3.1//EN
TZID:Europe/Paris
X-WR-TIMEZONE:Europe/Paris
BEGIN:VEVENT
UID:5614@agenda24.fr
DTSTART;TZID=Europe/Paris;VALUE=DATE:20250405
DTEND;TZID=Europe/Paris;VALUE=DATE:20250406
DTSTAMP:20250326T123055Z
URL:https://agenda24.fr/evenements/la-randonnee-mialletaise/
SUMMARY:La randonnée mialletaise
DESCRIPTION:Cette année encore\, La Mialletaise vous invite à participer 
 à sa rando\nannuelle...\n\n20 kms : départ de la mairie à 8 h\n10 kms :
  départ de la mairie à 9h30\nParticipation 10 € incluant une collation
  significative...\nS'inscrire (obligatoire) au 0682112167\n\n--&gt\; Une p
 ièce jointe est disponible :\nhttps://gco.ouvaton.org/u/1/25/03/A-affiche
 -ASCM-rando-2025.pdf
CATEGORIES:Evènement à thème
LOCATION:Miallet\, Miallet\, Miallet\, France
X-APPLE-STRUCTURED-LOCATION;VALUE=URI;X-ADDRESS=Miallet\, Miallet\, France;
 X-APPLE-RADIUS=100;X-TITLE=Miallet:geo:0,0
END:VEVENT
BEGIN:VTIMEZONE
TZID:Europe/Paris
X-LIC-LOCATION:Europe/Paris
BEGIN:DAYLIGHT
DTSTART:20250330T030000
TZOFFSETFROM:+0100
TZOFFSETTO:+0200
TZNAME:CEST
END:DAYLIGHT
END:VTIMEZONE
END:VCALENDAR