BEGIN:VCALENDAR
VERSION:2.0
PRODID:-//wp-events-plugin.com//7.2.3.1//EN
TZID:Europe/Paris
X-WR-TIMEZONE:Europe/Paris
BEGIN:VEVENT
UID:4480@agenda24.fr
DTSTART;TZID=Europe/Paris:20241213T180000
DTEND;TZID=Europe/Paris:20241213T210000
DTSTAMP:20241214T154059Z
URL:https://agenda24.fr/evenements/la-micro-folie-opera-national-de-paris-
 cendrillon/
SUMMARY:La Micro-Folie | Opéra National de Paris - Cendrillon
DESCRIPTION:
CATEGORIES:Spectacle
LOCATION:Micro-Folie\, 01 rue des Récollets\, Bergerac\, France
GEO:44.8501044;0.48263615
X-APPLE-STRUCTURED-LOCATION;VALUE=URI;X-ADDRESS=01 rue des Récollets\, Ber
 gerac\, France;X-APPLE-RADIUS=100;X-TITLE=Micro-Folie:geo:44.8501044,0.482
 63615
END:VEVENT
BEGIN:VTIMEZONE
TZID:Europe/Paris
X-LIC-LOCATION:Europe/Paris
BEGIN:STANDARD
DTSTART:20241027T020000
TZOFFSETFROM:+0200
TZOFFSETTO:+0100
TZNAME:CET
END:STANDARD
END:VTIMEZONE
END:VCALENDAR