BEGIN:VCALENDAR
VERSION:2.0
PRODID:-//wp-events-plugin.com//7.2.3.1//EN
TZID:Europe/Paris
X-WR-TIMEZONE:Europe/Paris
BEGIN:VEVENT
UID:10206@agenda24.fr
DTSTART;TZID=Europe/Paris:20251213T090000
DTEND;TZID=Europe/Paris:20251213T090000
DTSTAMP:20251210T134244Z
URL:https://agenda24.fr/evenements/la-marche-du-pere-noel/
SUMMARY:La marche du père noël
DESCRIPTION:La marche du père noël de Saint-Victor vous propose deux parc
 ours :  6 ou 8 kms (5€ et gratuit pour les moins de 12 ans)\nDépart 9h3
 0 de la Place Paul Rouchaud \nUn repas de noël est proposé à partir de 
 12h30 (18€ marche + repas  ou 20€ repas) 
CATEGORIES:Evènement à thème
LOCATION:Saint-Victor\, Saint-Victor\, Saint-Victor\, France
GEO:45.264021;0.437171
X-APPLE-STRUCTURED-LOCATION;VALUE=URI;X-ADDRESS=Saint-Victor\, Saint-Victor
 \, France;X-APPLE-RADIUS=100;X-TITLE=Saint-Victor:geo:45.264021,0.437171
END:VEVENT
BEGIN:VTIMEZONE
TZID:Europe/Paris
X-LIC-LOCATION:Europe/Paris
BEGIN:STANDARD
DTSTART:20251026T020000
TZOFFSETFROM:+0200
TZOFFSETTO:+0100
TZNAME:CET
END:STANDARD
END:VTIMEZONE
END:VCALENDAR