BEGIN:VCALENDAR
VERSION:2.0
PRODID:-//wp-events-plugin.com//7.2.3.1//EN
TZID:Europe/Paris
X-WR-TIMEZONE:Europe/Paris
BEGIN:VEVENT
UID:5956@agenda24.fr
DTSTART;TZID=Europe/Paris:20250419T100000
DTEND;TZID=Europe/Paris:20250419T180000
DTSTAMP:20250326T140649Z
URL:https://agenda24.fr/evenements/la-jalmoutoise-fete-de-village-a-saint-
 vincent-jalmoutiers/
SUMMARY:LA JALMOUTOISE – Fête de village à Saint-Vincent Jalmoutiers
DESCRIPTION:LA JALMOUTOISE -Fête du village . \nRestauration rapide/buvett
 e sur place.  De nombreuses animations sur place. Balade/rallye de voiture
 s anciennes.\nRenseignements : lajalmoutoise24@gmail.com \n\n
CATEGORIES:Marché / Foire / Brocante
LOCATION:Lieu-dit Le Bourg\, Lieu-dit Le Bourg\, Saint Vincent Jalmoutiers\
 , France
GEO:45.2022204;0.19115031
X-APPLE-STRUCTURED-LOCATION;VALUE=URI;X-ADDRESS=Lieu-dit Le Bourg\, Saint V
 incent Jalmoutiers\, France;X-APPLE-RADIUS=100;X-TITLE=Lieu-dit Le Bourg:g
 eo:45.2022204,0.19115031
END:VEVENT
BEGIN:VTIMEZONE
TZID:Europe/Paris
X-LIC-LOCATION:Europe/Paris
BEGIN:DAYLIGHT
DTSTART:20250330T030000
TZOFFSETFROM:+0100
TZOFFSETTO:+0200
TZNAME:CEST
END:DAYLIGHT
END:VTIMEZONE
END:VCALENDAR