BEGIN:VCALENDAR
VERSION:2.0
PRODID:-//wp-events-plugin.com//7.2.3.1//EN
TZID:Europe/Paris
X-WR-TIMEZONE:Europe/Paris
BEGIN:VEVENT
UID:5937@agenda24.fr
DTSTART;TZID=Europe/Paris:20250406T100000
DTEND;TZID=Europe/Paris:20250406T180000
DTSTAMP:20250326T140649Z
URL:https://agenda24.fr/evenements/la-fete-du-printemps/
SUMMARY:La fête du printemps
DESCRIPTION:Venez célébrer avec nous cette journée riches en découverte
 s\, produits locaux\, animations avec une buvette.\nVous pourrez découvri
 r\n- L'art de la ?????????????? avec Terre de Zagora\n- Des confitures loc
 ales\n- Des délices de Aromatignac\n- La ??????`???? ?????????????? des E
 yzies\n- Profitez de notre buvette qui vous proposera de délicieux produi
 ts locaux Albié foie gras \, Chapoulie\,...\n- Le ravissement de l'univer
 s des fleurs avec Eurydice Les Six Saisons Ferme florale\n- La douceur des
  savons Savonnerie Artisanale Savonnia\n- Animation ???????????????????? ?
 ??????? ??????????????\n\n- 14h45 Suivez la ???????????? ??????????´?? ??
 ???? ???????????? avec Perigord Noir de Marie en réservant votre visite\n
 \nEt bien plus de surprises....!\nDe la gemmotherapie avec Claire Tessier 
 de Saint-Chamassy\nLes alcoolatures\, tisanes de Nathalie Gentiane.\nDes a
 nimaux de la ferme
CATEGORIES:Marché / Foire / Brocante
LOCATION:Bords de la Vézère\, Centre ville\, Les Eyzies\, France
GEO:44.9361297;1.01169151
X-APPLE-STRUCTURED-LOCATION;VALUE=URI;X-ADDRESS=Centre ville\, Les Eyzies\,
  France;X-APPLE-RADIUS=100;X-TITLE=Bords de la Vézère:geo:44.9361297,1.0
 1169151
END:VEVENT
BEGIN:VTIMEZONE
TZID:Europe/Paris
X-LIC-LOCATION:Europe/Paris
BEGIN:DAYLIGHT
DTSTART:20250330T030000
TZOFFSETFROM:+0100
TZOFFSETTO:+0200
TZNAME:CEST
END:DAYLIGHT
END:VTIMEZONE
END:VCALENDAR