BEGIN:VCALENDAR
VERSION:2.0
PRODID:-//wp-events-plugin.com//7.2.3.1//EN
TZID:Europe/Paris
X-WR-TIMEZONE:Europe/Paris
BEGIN:VEVENT
UID:10795@agenda24.fr
DTSTART;TZID=Europe/Paris:20260227T183000
DTEND;TZID=Europe/Paris:20260227T203000
DTSTAMP:20260225T065218Z
URL:https://agenda24.fr/evenements/la-commune-dans-la-revolution-francaise
 -avec-jean-marc-schiappa-historien/
SUMMARY:La Commune dans la Révolution Française | avec Jean-Marc SCHIAPPA
 \, historien
DESCRIPTION:\n\nConférence avec Jean Marc Schiappa\, Titulaire de la chair
 e d’histoire à l’Institut La Boétie\,  » Le communalisme vers la s
 ouveraineté populaire »- amphithéâtre Jean Moulin\, médiathèque Pier
 re Fanlac\, 18h30.
CATEGORIES:Evènement à thème,Militant,Rencontre / Conférence /
 Discussion
LOCATION:Amphithéâtre Jean Moulin\, Médiathèque Pierre Fanlac\, 12 aven
 ue Georges Pompidou\, Périgueux\, France
GEO:45.188725;0.723525
X-APPLE-STRUCTURED-LOCATION;VALUE=URI;X-ADDRESS=Médiathèque Pierre Fanlac
 \, 12 avenue Georges Pompidou\, Périgueux\, France;X-APPLE-RADIUS=100;X-T
 ITLE=Amphithéâtre Jean Moulin:geo:45.188725,0.723525
END:VEVENT
BEGIN:VTIMEZONE
TZID:Europe/Paris
X-LIC-LOCATION:Europe/Paris
BEGIN:STANDARD
DTSTART:20251026T020000
TZOFFSETFROM:+0200
TZOFFSETTO:+0100
TZNAME:CET
END:STANDARD
END:VTIMEZONE
END:VCALENDAR