BEGIN:VCALENDAR
VERSION:2.0
PRODID:-//wp-events-plugin.com//7.2.3.1//EN
TZID:Europe/Paris
X-WR-TIMEZONE:Europe/Paris
BEGIN:VEVENT
UID:11664@agenda24.fr
DTSTART;TZID=Europe/Paris:20260307T080000
DTEND;TZID=Europe/Paris:20260307T173000
DTSTAMP:20260227T111621Z
URL:https://agenda24.fr/evenements/journee-internationale-des-droits-des-f
 emmes/
SUMMARY:Journée internationale des droits des femmes
DESCRIPTION:Femmes Solidaires Périgord Vert tiendra un stand au marché de
  Thiviers le samedi 7 mars de 8h à 13h : informations\, animation ludique
  autour de la représentation des femmes dans les films (test de Beschdel)
 . gaufres succulentes et biscuits surprise à thème !!\n\nFemmes Solidair
 es sera présente l'après-midi de 14h à 17h30 à la journée "Et si j'os
 ais ?" à l'Hangare.\n\nmultiples propositions tout au long de la journée
  par différentes associations ou initiatives individuelles :\n\nj'ose par
 ler sexualité\, des femmes qui osent\, j'ose la solidarité au féminin\,
  j'ose entreprendre au féminin\, j'ose donne pour que d'autres enfantent\
 , j'ose découvrir de nouvelles histoires\, j'ose être une fille\, une fe
 mme\, j'ose être moi-même\, j'ose poser pour une photo\, j'ose devenir D
 J\, j'ose réagir face à l'oppression\, j'ose faire face\, j'ose poser me
 s limites\, j'ose voyager seule\, j'ose danser\, j'ose mettre les mains da
 ns le cambouis\, j'ose tronçonner\, j'ose les outils.\n\nSacrée journée
  !!\n\net le soir : 21h Bal Trad avec Ronzes\, Trio de voix pour danser et
  22h30 DJ Gigi !\n\nrestauration midi et soi\, bar et café ouvert.\n\n&nb
 sp\;
CATEGORIES:Evènement à thème
LOCATION:Tiers Lieu l'Hangare\, rue Sémard\, Thiviers\, Dordogne\, 24800\,
  Nouvelle Aquitaine\, France
X-APPLE-STRUCTURED-LOCATION;VALUE=URI;X-ADDRESS=rue Sémard\, Thiviers\, Do
 rdogne\, 24800\, Nouvelle Aquitaine\, France;X-APPLE-RADIUS=100;X-TITLE=Ti
 ers Lieu l'Hangare:geo:0,0
END:VEVENT
BEGIN:VTIMEZONE
TZID:Europe/Paris
X-LIC-LOCATION:Europe/Paris
BEGIN:STANDARD
DTSTART:20251026T020000
TZOFFSETFROM:+0200
TZOFFSETTO:+0100
TZNAME:CET
END:STANDARD
END:VTIMEZONE
END:VCALENDAR