BEGIN:VCALENDAR
VERSION:2.0
PRODID:-//wp-events-plugin.com//7.2.3.1//EN
TZID:Europe/Paris
X-WR-TIMEZONE:Europe/Paris
BEGIN:VEVENT
UID:3834@agenda24.fr
DTSTART;TZID=Europe/Paris:20241031T100000
DTEND;TZID=Europe/Paris:20241031T173000
DTSTAMP:20241030T085702Z
URL:https://agenda24.fr/evenements/journee-halloween-au-royaume-des-fees-e
 t-des-citrouilles/
SUMMARY:Journée Halloween - Au royaume des fées et des citrouilles
DESCRIPTION:
CATEGORIES:Dédié aux enfants
LOCATION:Zone commerciale de l'Espérance\, Parking Carrefour Market\, Sain
 t-Cyprien\, France
GEO:44.8638764;1.04183277
X-APPLE-STRUCTURED-LOCATION;VALUE=URI;X-ADDRESS=Parking Carrefour Market\, 
 Saint-Cyprien\, France;X-APPLE-RADIUS=100;X-TITLE=Zone commerciale de l'Es
 pérance:geo:44.8638764,1.04183277
END:VEVENT
BEGIN:VTIMEZONE
TZID:Europe/Paris
X-LIC-LOCATION:Europe/Paris
BEGIN:STANDARD
DTSTART:20241027T020000
TZOFFSETFROM:+0200
TZOFFSETTO:+0100
TZNAME:CET
END:STANDARD
END:VTIMEZONE
END:VCALENDAR