BEGIN:VCALENDAR
VERSION:2.0
PRODID:-//wp-events-plugin.com//7.2.3.1//EN
TZID:Europe/Paris
X-WR-TIMEZONE:Europe/Paris
BEGIN:VEVENT
UID:4445@agenda24.fr
DTSTART;TZID=Europe/Paris:20241221T140000
DTEND;TZID=Europe/Paris:20241221T180000
DTSTAMP:20241214T154212Z
URL:https://agenda24.fr/evenements/journee-de-noel-jeux-de-societe-par-le-
 ludik-for-reveurs-quai-cyrano/
SUMMARY:Journée de Noël - jeux de société par le Ludik For Rêveurs •
  Quai Cyrano
DESCRIPTION:
CATEGORIES:Jeux
LOCATION:Quai Cyrano\, 1 Rue des Récollets\, Bergerac\, France
GEO:44.8501100;0.48262172
X-APPLE-STRUCTURED-LOCATION;VALUE=URI;X-ADDRESS=1 Rue des Récollets\, Berg
 erac\, France;X-APPLE-RADIUS=100;X-TITLE=Quai Cyrano:geo:44.8501100,0.4826
 2172
END:VEVENT
BEGIN:VTIMEZONE
TZID:Europe/Paris
X-LIC-LOCATION:Europe/Paris
BEGIN:STANDARD
DTSTART:20241027T020000
TZOFFSETFROM:+0200
TZOFFSETTO:+0100
TZNAME:CET
END:STANDARD
END:VTIMEZONE
END:VCALENDAR