BEGIN:VCALENDAR
VERSION:2.0
PRODID:-//wp-events-plugin.com//7.2.3.1//EN
TZID:Europe/Paris
X-WR-TIMEZONE:Europe/Paris
BEGIN:VEVENT
UID:9729@agenda24.fr
DTSTART;TZID=Europe/Paris:20251120T200000
DTEND;TZID=Europe/Paris:20251120T213000
DTSTAMP:20251101T090450Z
URL:https://agenda24.fr/evenements/jimmy-festival-trafik/
SUMMARY:Jimmy – Festival [TrafiK]*
DESCRIPTION:Théâtre\nà partir de 10 ans\n\n\nIMPOSTEUR : « Et quand mê
 me\, je me posais une question…\nMais où sera-t-on plus tard ? »\nJIMM
 Y : « Moi je me posais une autre question…\nQu’est-ce qu’on ne sera
  jamais ? »\nJIMMY est le vrai récit d’un jeune homme\, surnommé « l
 e caméléon » pour avoir emprunté plus de 500 identités différentes. 
 Non pas animé par l’appât du gain\, mais simplement\, dit-il « pour 
 être aimé ». À travers ses propres mots\, se déploie le récit d’un
  imposteur qui se met progressivement à douter de l’imposture des autre
 s.\nOn nous avait prévenus : c’est une histoire vraie. Et elle est à p
 eine croyable.\nSergi Emiliano i Griell\, metteur en scène de la compagni
 e\, enquête sur les profondeurs de la nature humaine par le biais du fait
  divers et crée des formes théâtrales troublantes qui déplacent les ha
 bitudes de regards et la texture même du temps présent.
CATEGORIES:Spectacle
LOCATION:Centre Culturel Michel Manet\, Place Gambetta\, Bergerac\, France
GEO:44.8545302;0.48230426
X-APPLE-STRUCTURED-LOCATION;VALUE=URI;X-ADDRESS=Place Gambetta\, Bergerac\,
  France;X-APPLE-RADIUS=100;X-TITLE=Centre Culturel Michel Manet:geo:44.854
 5302,0.48230426
END:VEVENT
BEGIN:VTIMEZONE
TZID:Europe/Paris
X-LIC-LOCATION:Europe/Paris
BEGIN:STANDARD
DTSTART:20251026T020000
TZOFFSETFROM:+0200
TZOFFSETTO:+0100
TZNAME:CET
END:STANDARD
END:VTIMEZONE
END:VCALENDAR