BEGIN:VCALENDAR
VERSION:2.0
PRODID:-//wp-events-plugin.com//7.2.3.1//EN
TZID:Europe/Paris
X-WR-TIMEZONE:Europe/Paris
BEGIN:VEVENT
UID:10314@agenda24.fr
DTSTART;TZID=Europe/Paris:20251217T163000
DTEND;TZID=Europe/Paris:20251217T180000
DTSTAMP:20251210T134620Z
URL:https://agenda24.fr/evenements/jeux-libres-6/
SUMMARY:Jeux libres
DESCRIPTION: Jeux libres (piscine olympique à balles\, mini-mur d’escala
 de\,etc) pour enfants  -4 ans avec accompagnant de 16h30 à 18h\, relais p
 etite enfance. Gratuit. \nInscr obligatoire: 06 95 13 47 77. RPE\n\n\n
CATEGORIES:Jeux
LOCATION:1 rue sainte anne de la Martinique\, 1 rue sainte anne de la Marti
 nique\, Mussidan\, France
GEO:45.0363557;0.36305755
X-APPLE-STRUCTURED-LOCATION;VALUE=URI;X-ADDRESS=1 rue sainte anne de la Mar
 tinique\, Mussidan\, France;X-APPLE-RADIUS=100;X-TITLE=1 rue sainte anne d
 e la Martinique:geo:45.0363557,0.36305755
END:VEVENT
BEGIN:VTIMEZONE
TZID:Europe/Paris
X-LIC-LOCATION:Europe/Paris
BEGIN:STANDARD
DTSTART:20251026T020000
TZOFFSETFROM:+0200
TZOFFSETTO:+0100
TZNAME:CET
END:STANDARD
END:VTIMEZONE
END:VCALENDAR