BEGIN:VCALENDAR
VERSION:2.0
PRODID:-//wp-events-plugin.com//7.2.3.1//EN
TZID:Europe/Paris
X-WR-TIMEZONE:Europe/Paris
BEGIN:VEVENT
UID:11712@agenda24.fr
DTSTART;TZID=Europe/Paris:20260307T100000
DTEND;TZID=Europe/Paris:20260307T170000
DTSTAMP:20260301T135041Z
URL:https://agenda24.fr/evenements/jeux-enjoues-et-danse-biodanza/
SUMMARY:Jeux enjoués et danse Biodanza
DESCRIPTION:Je t'invite (Cécile\, animatrice de stages\, d'ateliers clowns
 \, jeux enjoués...) à partager te surprendre\, oser\, rire. Ces jeux cor
 porels sont issus de nombreux stages de clown. A la fin de la séance\, le
  nez rouge peut s'inviter et laisser vivre ce qui est là\, ici et mainten
 ant. Pendant la pause du déjeuner\, ce sera auberge espagnole. Et de 14h 
 à 16h00 séance de biosanza sur la confiance avec Raphaëlle (Elle anime 
 des séances au Coux et à Saint Génies). 
CATEGORIES:Atelier / Stage
LOCATION:Foyer rural\, Foyer rural\, Cadouin\, France
GEO:44.8124122;0.87135552
X-APPLE-STRUCTURED-LOCATION;VALUE=URI;X-ADDRESS=Foyer rural\, Cadouin\, Fra
 nce;X-APPLE-RADIUS=100;X-TITLE=Foyer rural:geo:44.8124122,0.87135552
END:VEVENT
BEGIN:VTIMEZONE
TZID:Europe/Paris
X-LIC-LOCATION:Europe/Paris
BEGIN:STANDARD
DTSTART:20251026T020000
TZOFFSETFROM:+0200
TZOFFSETTO:+0100
TZNAME:CET
END:STANDARD
END:VTIMEZONE
END:VCALENDAR