BEGIN:VCALENDAR
VERSION:2.0
PRODID:-//wp-events-plugin.com//7.2.3.1//EN
TZID:Europe/Paris
X-WR-TIMEZONE:Europe/Paris
BEGIN:VEVENT
UID:10307@agenda24.fr
DTSTART;TZID=Europe/Paris:20251213T193000
DTEND;TZID=Europe/Paris:20251213T193000
DTSTAMP:20251210T134620Z
URL:https://agenda24.fr/evenements/jeux-de-societe-8/
SUMMARY:Jeux de société
DESCRIPTION:Soirée jeux de société à 19h30\, salle du Trieur (à côté
  de la mairie). \nParticipation libre. Infos: Page Facebook ou isleojoueur
 s@proton.me. L’isle O joueurs\n\n
CATEGORIES:Jeux
LOCATION:Saint-Medard-de-Mussidan\, Saint-Medard-de-Mussidan\, Saint-Medard
 -de-Mussidan\, France
GEO:45.0443639;0.3473367
X-APPLE-STRUCTURED-LOCATION;VALUE=URI;X-ADDRESS=Saint-Medard-de-Mussidan\, 
 Saint-Medard-de-Mussidan\, France;X-APPLE-RADIUS=100;X-TITLE=Saint-Medard-
 de-Mussidan:geo:45.0443639,0.3473367
END:VEVENT
BEGIN:VTIMEZONE
TZID:Europe/Paris
X-LIC-LOCATION:Europe/Paris
BEGIN:STANDARD
DTSTART:20251026T020000
TZOFFSETFROM:+0200
TZOFFSETTO:+0100
TZNAME:CET
END:STANDARD
END:VTIMEZONE
END:VCALENDAR