BEGIN:VCALENDAR
VERSION:2.0
PRODID:-//wp-events-plugin.com//7.2.3.1//EN
TZID:Europe/Paris
X-WR-TIMEZONE:Europe/Paris
BEGIN:VEVENT
UID:10310@agenda24.fr
DTSTART;TZID=Europe/Paris:20251213T150000
DTEND;TZID=Europe/Paris:20251213T150000
DTSTAMP:20251210T134620Z
URL:https://agenda24.fr/evenements/jeux-de-societe-7/
SUMMARY:Jeux de société
DESCRIPTION:Jeux de société
CATEGORIES:Jeux
LOCATION:Médiathèque Pierre Fanlac\, 12 Avenue Georges Pompidou\, Périgu
 eux\, France
GEO:45.1887248;0.72352489
X-APPLE-STRUCTURED-LOCATION;VALUE=URI;X-ADDRESS=12 Avenue Georges Pompidou\
 , Périgueux\, France;X-APPLE-RADIUS=100;X-TITLE=Médiathèque Pierre Fanl
 ac:geo:45.1887248,0.72352489
END:VEVENT
BEGIN:VTIMEZONE
TZID:Europe/Paris
X-LIC-LOCATION:Europe/Paris
BEGIN:STANDARD
DTSTART:20251026T020000
TZOFFSETFROM:+0200
TZOFFSETTO:+0100
TZNAME:CET
END:STANDARD
END:VTIMEZONE
END:VCALENDAR