BEGIN:VCALENDAR
VERSION:2.0
PRODID:-//wp-events-plugin.com//7.2.3.1//EN
TZID:Europe/Paris
X-WR-TIMEZONE:Europe/Paris
BEGIN:VEVENT
UID:10312@agenda24.fr
DTSTART;TZID=Europe/Paris:20251214T133000
DTEND;TZID=Europe/Paris:20251214T163000
DTSTAMP:20251210T134620Z
URL:https://agenda24.fr/evenements/jeu-de-piste/
SUMMARY:Jeu de piste
DESCRIPTION:Organisé lors du marche de Noël du Bugue.\n\nVotre mission :\
 nPartez à la recherche d'objets cachés dans les commerces su village pou
 r compléter votre calendrier de l'avent et participer à la tombola final
 e.\n\nOuvert à tous les âges.\nStand de départ : place de la mairie.\n\
 nTombola : de nombreux lots à gagner offerts par les artisans et commerç
 ants.
CATEGORIES:Jeux
LOCATION:Place de la mairie\, Place de la mairie\, le Bugue\, France
GEO:44.9180532;0.92736962
X-APPLE-STRUCTURED-LOCATION;VALUE=URI;X-ADDRESS=Place de la mairie\, le Bug
 ue\, France;X-APPLE-RADIUS=100;X-TITLE=Place de la mairie:geo:44.9180532,0
 .92736962
END:VEVENT
BEGIN:VTIMEZONE
TZID:Europe/Paris
X-LIC-LOCATION:Europe/Paris
BEGIN:STANDARD
DTSTART:20251026T020000
TZOFFSETFROM:+0200
TZOFFSETTO:+0100
TZNAME:CET
END:STANDARD
END:VTIMEZONE
END:VCALENDAR