BEGIN:VCALENDAR
VERSION:2.0
PRODID:-//wp-events-plugin.com//7.2.3.1//EN
TZID:Europe/Paris
X-WR-TIMEZONE:Europe/Paris
BEGIN:VEVENT
UID:5765@agenda24.fr
DTSTART;TZID=Europe/Paris:20250411T200000
DTEND;TZID=Europe/Paris:20250411T200000
DTSTAMP:20250326T135034Z
URL:https://agenda24.fr/evenements/jazz-en-chais-126eme-rue-quartet/
SUMMARY:Jazz en Chais | 126ème Rue Quartet
DESCRIPTION:126è rue tient son nom du lieu où a été prise la photo myth
 ique « A Great Day in Harlem » en 1959\, réunissant de façon inédite 
 certains des grands noms du jazz.\n\nÀ l’instar du photographe de cette
  journée\, le quartet 126ème rue s’est formé de part la volonté de r
 endre un bel hommage aux figures marquantes du jazz des années 1950 à no
 s jours\, à travers un répertoire de compositions originales\, variées 
 et pour certaines oubliées.???\n\nThomas ALFONSO\, trompette\nLaëtitia B
 ONIN\, piano\n\nNicolas OUSTIAKINE\, contrebasse\nFabien DECHAUMONT\, batt
 erie
CATEGORIES:Concert
LOCATION:Vignoble des Verdots\, Vignoble des Verdots\, Conne-de-Labarde\, F
 rance
GEO:44.77923;0.55311
X-APPLE-STRUCTURED-LOCATION;VALUE=URI;X-ADDRESS=Vignoble des Verdots\, Conn
 e-de-Labarde\, France;X-APPLE-RADIUS=100;X-TITLE=Vignoble des Verdots:geo:
 44.77923,0.55311
END:VEVENT
BEGIN:VTIMEZONE
TZID:Europe/Paris
X-LIC-LOCATION:Europe/Paris
BEGIN:DAYLIGHT
DTSTART:20250330T030000
TZOFFSETFROM:+0100
TZOFFSETTO:+0200
TZNAME:CEST
END:DAYLIGHT
END:VTIMEZONE
END:VCALENDAR