BEGIN:VCALENDAR
VERSION:2.0
PRODID:-//wp-events-plugin.com//7.2.3.1//EN
TZID:Europe/Paris
X-WR-TIMEZONE:Europe/Paris
BEGIN:VEVENT
UID:8313@agenda24.fr
DTSTART;TZID=Europe/Paris:20250928T100000
DTEND;TZID=Europe/Paris:20250928T190000
DTSTAMP:20250906T224819Z
URL:https://agenda24.fr/evenements/japan-days-perigueux-2025-2/
SUMMARY:Japan days Périgueux 2025
DESCRIPTION:Association franco japonaise proposant un salon japonais.
CATEGORIES:Evènement à thème
LOCATION:La Filature de l\\'isle\, Chemin des feutres du Toulon 24000 Péri
 gueux \, Périgueux \, 24\, 24000\, Nouvelle Aquitaine \, France
X-APPLE-STRUCTURED-LOCATION;VALUE=URI;X-ADDRESS=Chemin des feutres du Toulo
 n 24000 Périgueux \, Périgueux \, 24\, 24000\, Nouvelle Aquitaine \, Fra
 nce;X-APPLE-RADIUS=100;X-TITLE=La Filature de l\\'isle:geo:0,0
END:VEVENT
BEGIN:VTIMEZONE
TZID:Europe/Paris
X-LIC-LOCATION:Europe/Paris
BEGIN:DAYLIGHT
DTSTART:20250330T030000
TZOFFSETFROM:+0100
TZOFFSETTO:+0200
TZNAME:CEST
END:DAYLIGHT
END:VTIMEZONE
END:VCALENDAR