BEGIN:VCALENDAR
VERSION:2.0
PRODID:-//wp-events-plugin.com//7.2.3.1//EN
TZID:Europe/Paris
X-WR-TIMEZONE:Europe/Paris
BEGIN:VEVENT
UID:8342@agenda24.fr
DTSTART;TZID=Europe/Paris:20250920T100000
DTEND;TZID=Europe/Paris:20250920T170000
DTSTAMP:20250908T164828Z
URL:https://agenda24.fr/evenements/install-linux-party-latelier-du-lien/
SUMMARY:Install Linux party - L'atelier du lien
DESCRIPTION:Venez vous affranchir de Windows et donner une seconde vie à v
 otre ordinateur ! Les bénévoles de l'Atelier du Lien vous proposent de l
 e faire en 2 dates :\n\n 	samedi 20 septembre\, de 10h à 17h : installati
 on d'une version Linux sur votre ordinateur ouverte à tous\n 	puis\, same
 di 11 octobre : approfondissement de l'utilisation si besoin pour les util
 isateurs-rices.\n\nComment ça se passe ?\n\n 	inscription obligatoire et 
 gratuite\, en précisant la date et vos besoins\n 	apporter votre ordinate
 ur et un disque dur (ou une clé USB) afin de sauvegarder vos données (da
 ns ce cas\, venir dès 10h)\n 	repas partagé possible sur place à partir
  de 12h pour faire connaissance\n 	la participation pourra se faire sous l
 a forme de dons libres\n
CATEGORIES:Atelier / Stage
LOCATION:Maison des associations\, Cours Fénelon\, Périgueux\, France
X-APPLE-STRUCTURED-LOCATION;VALUE=URI;X-ADDRESS=Cours Fénelon\, Périgueux
 \, France;X-APPLE-RADIUS=100;X-TITLE=Maison des associations:geo:0,0
END:VEVENT
BEGIN:VTIMEZONE
TZID:Europe/Paris
X-LIC-LOCATION:Europe/Paris
BEGIN:DAYLIGHT
DTSTART:20250330T030000
TZOFFSETFROM:+0100
TZOFFSETTO:+0200
TZNAME:CEST
END:DAYLIGHT
END:VTIMEZONE
END:VCALENDAR