BEGIN:VCALENDAR
VERSION:2.0
PRODID:-//wp-events-plugin.com//7.2.3.1//EN
TZID:Europe/Paris
X-WR-TIMEZONE:Europe/Paris
BEGIN:VEVENT
UID:4081@agenda24.fr
DTSTART;TZID=Europe/Paris:20241106T143000
DTEND;TZID=Europe/Paris:20241106T163000
DTSTAMP:20241030T091122Z
URL:https://agenda24.fr/evenements/initiation-au-crochet-deco-de-noel/
SUMMARY:Initiation au crochet - Déco de noël
DESCRIPTION:
CATEGORIES:Atelier / Stage
LOCATION:la Récréa'thiv\, 4 rue Pierre Sémard\, Thiviers\, France
GEO:45.4168580;0.9223690
X-APPLE-STRUCTURED-LOCATION;VALUE=URI;X-ADDRESS=4 rue Pierre Sémard\, Thiv
 iers\, France;X-APPLE-RADIUS=100;X-TITLE=la Récréa'thiv:geo:45.4168580,0
 .9223690
END:VEVENT
BEGIN:VTIMEZONE
TZID:Europe/Paris
X-LIC-LOCATION:Europe/Paris
BEGIN:STANDARD
DTSTART:20241027T020000
TZOFFSETFROM:+0200
TZOFFSETTO:+0100
TZNAME:CET
END:STANDARD
END:VTIMEZONE
END:VCALENDAR