BEGIN:VCALENDAR
VERSION:2.0
PRODID:-//wp-events-plugin.com//7.2.3.1//EN
TZID:Europe/Paris
X-WR-TIMEZONE:Europe/Paris
BEGIN:VEVENT
UID:4007@agenda24.fr
DTSTART;TZID=Europe/Paris:20241102T143000
DTEND;TZID=Europe/Paris:20241102T143000
DTSTAMP:20241030T091155Z
URL:https://agenda24.fr/evenements/historiacite-le-quartier-de-vesone-angl
 es-de-vue-meconnus/
SUMMARY:Historia'Cité - Le quartier de Vésone\, angles de vue méconnus
DESCRIPTION:
CATEGORIES:Tourisme / Patrimoine
LOCATION:angles rue Saint-Pierres-Es Liens\, Rond-Point Charles Durand\, P
 érigueux\, France
GEO:45.17964;0.71537
X-APPLE-STRUCTURED-LOCATION;VALUE=URI;X-ADDRESS=Rond-Point Charles Durand\,
  Périgueux\, France;X-APPLE-RADIUS=100;X-TITLE=angles rue Saint-Pierres-E
 s Liens:geo:45.17964,0.71537
END:VEVENT
BEGIN:VTIMEZONE
TZID:Europe/Paris
X-LIC-LOCATION:Europe/Paris
BEGIN:STANDARD
DTSTART:20241027T020000
TZOFFSETFROM:+0200
TZOFFSETTO:+0100
TZNAME:CET
END:STANDARD
END:VTIMEZONE
END:VCALENDAR