BEGIN:VCALENDAR
VERSION:2.0
PRODID:-//wp-events-plugin.com//7.2.3.1//EN
TZID:Europe/Paris
X-WR-TIMEZONE:Europe/Paris
BEGIN:VEVENT
UID:11827@agenda24.fr
DTSTART;TZID=Europe/Paris:20260314T143000
DTEND;TZID=Europe/Paris:20260314T143000
DTSTAMP:20260301T135157Z
URL:https://agenda24.fr/evenements/historiacite-demeures-insolites-riches-
 en-histoire/
SUMMARY:Historia'Cité - DEMEURES INSOLITES RICHES EN HISTOIRE
DESCRIPTION:Les faces cachées étonnantes de propriétés privées se dév
 oilent grâce à la complicité des propriétaires avec des accès excepti
 onnels. Un éventail de logis qui ont traversé les ans et évolué dans l
 e temps se racontent à travers leurs différentes occupations.\n\nUn voya
 ge à travers plusieurs époques pour éveiller la curiosité du public et
  montrer un autre visage de Périgueux hors des sentiers battus. Evocation
  de marchands\, négociants juristes\, écrivains qui ont laissé leur emp
 reinte tels Montaigne\, Eugène Leroy\, et bien d'autres à découvrir.. t
 op secret!\n\nFinal convivial dans un lieu historique\n\nRendez-Vous : Bou
 levard Montaigne face à la rue de la République devant la signalétique 
 touristique de Périgueux\n\nChiens non admis.
CATEGORIES:Tourisme / Patrimoine
LOCATION:Devant la les lettres PERIGUEUX\, Boulevard Montaigne\, Périgueux
 \, France
GEO:45.1846286;0.71900789
X-APPLE-STRUCTURED-LOCATION;VALUE=URI;X-ADDRESS=Boulevard Montaigne\, Péri
 gueux\, France;X-APPLE-RADIUS=100;X-TITLE=Devant la les lettres PERIGUEUX:
 geo:45.1846286,0.71900789
END:VEVENT
BEGIN:VTIMEZONE
TZID:Europe/Paris
X-LIC-LOCATION:Europe/Paris
BEGIN:STANDARD
DTSTART:20251026T020000
TZOFFSETFROM:+0200
TZOFFSETTO:+0100
TZNAME:CET
END:STANDARD
END:VTIMEZONE
END:VCALENDAR