BEGIN:VCALENDAR
VERSION:2.0
PRODID:-//wp-events-plugin.com//7.2.3.1//EN
TZID:Europe/Paris
X-WR-TIMEZONE:Europe/Paris
BEGIN:VEVENT
UID:3888@agenda24.fr
DTSTART;TZID=Europe/Paris:20241101T160000
DTEND;TZID=Europe/Paris:20241101T160000
DTSTAMP:20241030T085618Z
URL:https://agenda24.fr/evenements/halloween-party/
SUMMARY:Halloween Party
DESCRIPTION:
CATEGORIES:Evènement à thème
LOCATION:Place de la Mairie\, Place de la Mairie\, Saint-Felix-de-Villadeix
 \, France
GEO:44.92543;0.68238
X-APPLE-STRUCTURED-LOCATION;VALUE=URI;X-ADDRESS=Place de la Mairie\, Saint-
 Felix-de-Villadeix\, France;X-APPLE-RADIUS=100;X-TITLE=Place de la Mairie:
 geo:44.92543,0.68238
END:VEVENT
BEGIN:VTIMEZONE
TZID:Europe/Paris
X-LIC-LOCATION:Europe/Paris
BEGIN:STANDARD
DTSTART:20241027T020000
TZOFFSETFROM:+0200
TZOFFSETTO:+0100
TZNAME:CET
END:STANDARD
END:VTIMEZONE
END:VCALENDAR