BEGIN:VCALENDAR
VERSION:2.0
PRODID:-//wp-events-plugin.com//7.2.3.1//EN
TZID:Europe/Paris
X-WR-TIMEZONE:Europe/Paris
BEGIN:VEVENT
UID:3826@agenda24.fr
DTSTART;TZID=Europe/Paris:20241101T140000
DTEND;TZID=Europe/Paris:20241101T170000
DTSTAMP:20241030T085702Z
URL:https://agenda24.fr/evenements/halloween-party-2/
SUMMARY:Halloween Party
DESCRIPTION:
CATEGORIES:Dédié aux enfants
LOCATION:Espace socio-culturel\, Place du Groupe Loiseau\, Prigonrieux\, Fr
 ance
GEO:44.85534;0.40191
X-APPLE-STRUCTURED-LOCATION;VALUE=URI;X-ADDRESS=Place du Groupe Loiseau\, P
 rigonrieux\, France;X-APPLE-RADIUS=100;X-TITLE=Espace socio-culturel:geo:4
 4.85534,0.40191
END:VEVENT
BEGIN:VTIMEZONE
TZID:Europe/Paris
X-LIC-LOCATION:Europe/Paris
BEGIN:STANDARD
DTSTART:20241027T020000
TZOFFSETFROM:+0200
TZOFFSETTO:+0100
TZNAME:CET
END:STANDARD
END:VTIMEZONE
END:VCALENDAR