BEGIN:VCALENDAR
VERSION:2.0
PRODID:-//wp-events-plugin.com//7.2.3.1//EN
TZID:Europe/Paris
X-WR-TIMEZONE:Europe/Paris
BEGIN:VEVENT
UID:3882@agenda24.fr
DTSTART;TZID=Europe/Paris:20241031T193000
DTEND;TZID=Europe/Paris:20241031T193000
DTSTAMP:20241030T085627Z
URL:https://agenda24.fr/evenements/halloween-les-fantomes-de-tiregand-en-n
 octurne/
SUMMARY:Halloween - Les Fantômes de Tiregand en nocturne
DESCRIPTION:
CATEGORIES:Evènement à thème
LOCATION:Château de Tiregand\, 118 Route de Sainte Alvère\, Creysse\, Fra
 nce
GEO:44.8561522;0.5505387
X-APPLE-STRUCTURED-LOCATION;VALUE=URI;X-ADDRESS=118 Route de Sainte Alvère
 \, Creysse\, France;X-APPLE-RADIUS=100;X-TITLE=Château de Tiregand:geo:44
 .8561522,0.5505387
END:VEVENT
BEGIN:VTIMEZONE
TZID:Europe/Paris
X-LIC-LOCATION:Europe/Paris
BEGIN:STANDARD
DTSTART:20241027T020000
TZOFFSETFROM:+0200
TZOFFSETTO:+0100
TZNAME:CET
END:STANDARD
END:VTIMEZONE
END:VCALENDAR