BEGIN:VCALENDAR
VERSION:2.0
PRODID:-//wp-events-plugin.com//7.2.3.1//EN
TZID:Europe/Paris
X-WR-TIMEZONE:Europe/Paris
BEGIN:VEVENT
UID:3891@agenda24.fr
DTSTART;TZID=Europe/Paris:20241031T100000
DTEND;TZID=Europe/Paris:20241031T100000
DTSTAMP:20241030T085618Z
URL:https://agenda24.fr/evenements/halloween-au-musee-du-chocolat-bovetti/
SUMMARY:Halloween au Musée du Chocolat Bovetti
DESCRIPTION:
CATEGORIES:Evènement à thème
LOCATION:Terrasson-Lavilledieu\, Terrasson-Lavilledieu\, Terrasson-Lavilled
 ieu\, France
GEO:45.1273987;1.32046610
X-APPLE-STRUCTURED-LOCATION;VALUE=URI;X-ADDRESS=Terrasson-Lavilledieu\, Ter
 rasson-Lavilledieu\, France;X-APPLE-RADIUS=100;X-TITLE=Terrasson-Lavilledi
 eu:geo:45.1273987,1.32046610
END:VEVENT
BEGIN:VTIMEZONE
TZID:Europe/Paris
X-LIC-LOCATION:Europe/Paris
BEGIN:STANDARD
DTSTART:20241027T020000
TZOFFSETFROM:+0200
TZOFFSETTO:+0100
TZNAME:CET
END:STANDARD
END:VTIMEZONE
END:VCALENDAR