BEGIN:VCALENDAR
VERSION:2.0
PRODID:-//wp-events-plugin.com//7.2.3.1//EN
TZID:Europe/Paris
X-WR-TIMEZONE:Europe/Paris
BEGIN:VEVENT
UID:3878@agenda24.fr
DTSTART;TZID=Europe/Paris:20241031T180000
DTEND;TZID=Europe/Paris:20241031T180000
DTSTAMP:20241030T085626Z
URL:https://agenda24.fr/evenements/halloween-a-saint-julien-de-lampon/
SUMMARY:Halloween à Saint Julien de Lampon
DESCRIPTION:
CATEGORIES:Evènement à thème
LOCATION:Mairie\, Place du Foirail\, Saint-Julien-de-Lampon\, France
GEO:44.8601986;1.36470022
X-APPLE-STRUCTURED-LOCATION;VALUE=URI;X-ADDRESS=Place du Foirail\, Saint-Ju
 lien-de-Lampon\, France;X-APPLE-RADIUS=100;X-TITLE=Mairie:geo:44.8601986,1
 .36470022
END:VEVENT
BEGIN:VTIMEZONE
TZID:Europe/Paris
X-LIC-LOCATION:Europe/Paris
BEGIN:STANDARD
DTSTART:20241027T020000
TZOFFSETFROM:+0200
TZOFFSETTO:+0100
TZNAME:CET
END:STANDARD
END:VTIMEZONE
END:VCALENDAR