BEGIN:VCALENDAR
VERSION:2.0
PRODID:-//wp-events-plugin.com//7.2.3.1//EN
TZID:Europe/Paris
X-WR-TIMEZONE:Europe/Paris
BEGIN:VEVENT
UID:3887@agenda24.fr
DTSTART;TZID=Europe/Paris:20241031T183000
DTEND;TZID=Europe/Paris:20241031T183000
DTSTAMP:20241030T085618Z
URL:https://agenda24.fr/evenements/halloween-a-beynac/
SUMMARY:Halloween à Beynac
DESCRIPTION:
CATEGORIES:Evènement à thème
LOCATION:Place d'Alsace\, Place d'Alsace\, Beynac-et-Cazenac\, France
GEO:44.8406000;1.1412770
X-APPLE-STRUCTURED-LOCATION;VALUE=URI;X-ADDRESS=Place d'Alsace\, Beynac-et-
 Cazenac\, France;X-APPLE-RADIUS=100;X-TITLE=Place d'Alsace:geo:44.8406000,
 1.1412770
END:VEVENT
BEGIN:VTIMEZONE
TZID:Europe/Paris
X-LIC-LOCATION:Europe/Paris
BEGIN:STANDARD
DTSTART:20241027T020000
TZOFFSETFROM:+0200
TZOFFSETTO:+0100
TZNAME:CET
END:STANDARD
END:VTIMEZONE
END:VCALENDAR