BEGIN:VCALENDAR
VERSION:2.0
PRODID:-//wp-events-plugin.com//7.2.3.1//EN
TZID:Europe/Paris
X-WR-TIMEZONE:Europe/Paris
BEGIN:VEVENT
UID:3867@agenda24.fr
DTSTART;TZID=Europe/Paris:20241103T143000
DTEND;TZID=Europe/Paris:20241103T143000
DTSTAMP:20241030T085653Z
URL:https://agenda24.fr/evenements/halloween-4/
SUMMARY:Halloween
DESCRIPTION:
CATEGORIES:Evènement à thème
LOCATION:Le bourg\, Le bourg\, Bourniquel\, France
GEO:44.8013989;0.78338169
X-APPLE-STRUCTURED-LOCATION;VALUE=URI;X-ADDRESS=Le bourg\, Bourniquel\, Fra
 nce;X-APPLE-RADIUS=100;X-TITLE=Le bourg:geo:44.8013989,0.78338169
END:VEVENT
BEGIN:VTIMEZONE
TZID:Europe/Paris
X-LIC-LOCATION:Europe/Paris
BEGIN:STANDARD
DTSTART:20241027T020000
TZOFFSETFROM:+0200
TZOFFSETTO:+0100
TZNAME:CET
END:STANDARD
END:VTIMEZONE
END:VCALENDAR