BEGIN:VCALENDAR
VERSION:2.0
PRODID:-//wp-events-plugin.com//7.2.3.1//EN
TZID:Europe/Paris
X-WR-TIMEZONE:Europe/Paris
BEGIN:VEVENT
UID:3865@agenda24.fr
DTSTART;TZID=Europe/Paris:20241031T173000
DTEND;TZID=Europe/Paris:20241031T173000
DTSTAMP:20241030T085652Z
URL:https://agenda24.fr/evenements/halloween-3/
SUMMARY:Halloween
DESCRIPTION:
CATEGORIES:Evènement à thème
LOCATION:Halle\, Place du 31 mars 1944\, Rouffignac-Saint-Cernin-de-Reilhac
 \, France
GEO:45.0472667;0.9773896
X-APPLE-STRUCTURED-LOCATION;VALUE=URI;X-ADDRESS=Place du 31 mars 1944\, Rou
 ffignac-Saint-Cernin-de-Reilhac\, France;X-APPLE-RADIUS=100;X-TITLE=Halle:
 geo:45.0472667,0.9773896
END:VEVENT
BEGIN:VTIMEZONE
TZID:Europe/Paris
X-LIC-LOCATION:Europe/Paris
BEGIN:STANDARD
DTSTART:20241027T020000
TZOFFSETFROM:+0200
TZOFFSETTO:+0100
TZNAME:CET
END:STANDARD
END:VTIMEZONE
END:VCALENDAR