BEGIN:VCALENDAR
VERSION:2.0
PRODID:-//wp-events-plugin.com//7.2.3.1//EN
TZID:Europe/Paris
X-WR-TIMEZONE:Europe/Paris
BEGIN:VEVENT
UID:5966@agenda24.fr
DTSTART;TZID=Europe/Paris:20250329T130000
DTEND;TZID=Europe/Paris:20250329T170000
DTSTAMP:20250326T140643Z
URL:https://agenda24.fr/evenements/grande-braderie-de-la-recyclerie-ramdam
 /
SUMMARY:Grande Braderie de la Recyclerie Ramdam !
DESCRIPTION:Venez faire des affaires grâce à la grande braderie de la rec
 yclerie Ramdam ! \n-50% sur tout ! 
CATEGORIES:Marché / Foire / Brocante
LOCATION:Recyclerie Ramdam\, 19 rue de Guyenne\, Eymet\, France
GEO:44.6633884;0.39644457
X-APPLE-STRUCTURED-LOCATION;VALUE=URI;X-ADDRESS=19 rue de Guyenne\, Eymet\,
  France;X-APPLE-RADIUS=100;X-TITLE=Recyclerie Ramdam:geo:44.6633884,0.3964
 4457
END:VEVENT
BEGIN:VTIMEZONE
TZID:Europe/Paris
X-LIC-LOCATION:Europe/Paris
BEGIN:STANDARD
DTSTART:20241027T020000
TZOFFSETFROM:+0200
TZOFFSETTO:+0100
TZNAME:CET
END:STANDARD
END:VTIMEZONE
END:VCALENDAR