BEGIN:VCALENDAR
VERSION:2.0
PRODID:-//wp-events-plugin.com//7.2.3.1//EN
TZID:Europe/Paris
X-WR-TIMEZONE:Europe/Paris
BEGIN:VEVENT
UID:5924@agenda24.fr
DTSTART;TZID=Europe/Paris:20250329T200000
DTEND;TZID=Europe/Paris:20250329T200000
DTSTAMP:20250326T140704Z
URL:https://agenda24.fr/evenements/grand-loto-des-ecoles/
SUMMARY:Grand loto des écoles
DESCRIPTION:Grand loto des écoles \nSamedi 29 mars à la salle des fêtes 
 de Fouleix à 20h30\nouverture des portes à 19h00\nnombreux lots\, restau
 ration\, buvette\norganisée par les associations des parents d'élèves E
 cole de Beauregard et Bassac et Fouleix\n\n
CATEGORIES:Jeux
LOCATION:Salle des fêtes\, Salle des fêtes \, Fouleix\, France
GEO:44.98478;0.68048
X-APPLE-STRUCTURED-LOCATION;VALUE=URI;X-ADDRESS=Salle des fêtes \, Fouleix
 \, France;X-APPLE-RADIUS=100;X-TITLE=Salle des fêtes:geo:44.98478,0.68048
END:VEVENT
BEGIN:VTIMEZONE
TZID:Europe/Paris
X-LIC-LOCATION:Europe/Paris
BEGIN:STANDARD
DTSTART:20241027T020000
TZOFFSETFROM:+0200
TZOFFSETTO:+0100
TZNAME:CET
END:STANDARD
END:VTIMEZONE
END:VCALENDAR