BEGIN:VCALENDAR
VERSION:2.0
PRODID:-//wp-events-plugin.com//7.2.3.1//EN
TZID:Europe/Paris
X-WR-TIMEZONE:Europe/Paris
BEGIN:VEVENT
UID:3907@agenda24.fr
DTSTART;TZID=Europe/Paris:20241214T203000
DTEND;TZID=Europe/Paris:20241214T203000
DTSTAMP:20241030T085240Z
URL:https://agenda24.fr/evenements/grand-loto-de-noel/
SUMMARY:Grand Loto de Noël
DESCRIPTION:
CATEGORIES:Jeux
LOCATION:Espace culturel\, Espace culturel\, La Coquille\, France
GEO:45.5401259;0.97466846
X-APPLE-STRUCTURED-LOCATION;VALUE=URI;X-ADDRESS=Espace culturel\, La Coquil
 le\, France;X-APPLE-RADIUS=100;X-TITLE=Espace culturel:geo:45.5401259,0.97
 466846
END:VEVENT
BEGIN:VTIMEZONE
TZID:Europe/Paris
X-LIC-LOCATION:Europe/Paris
BEGIN:STANDARD
DTSTART:20241027T020000
TZOFFSETFROM:+0200
TZOFFSETTO:+0100
TZNAME:CET
END:STANDARD
END:VTIMEZONE
END:VCALENDAR