BEGIN:VCALENDAR
VERSION:2.0
PRODID:-//wp-events-plugin.com//7.2.3.1//EN
TZID:Europe/Paris
X-WR-TIMEZONE:Europe/Paris
BEGIN:VEVENT
UID:10322@agenda24.fr
DTSTART;TZID=Europe/Paris:20251228T143000
DTEND;TZID=Europe/Paris:20251228T143000
DTSTAMP:20251210T134619Z
URL:https://agenda24.fr/evenements/grand-loto-4/
SUMMARY:Grand Loto
DESCRIPTION:Et si on prolongeait un peu la magie de Noël ? Nous vous donno
 ns rdv pour un après-midi convivial et tenter votre chance lors du loto o
 rganisé par Jean Marie au profit de la Pétanque Jumilhacoise !\n? 15 par
 ties\, dont 1 partie SURPRISE avec un GROS LOT !\n?? Le GROS Lot ? :\n??? 
 Un séjour d’une semaine en Camargue – au Grau-du-Roi pour 4 personnes
  ! Oui Oui !!\n?? Les autres lots ?? :\n• Robot laveur de sol ECOVACS\n
 • Plancha XXL\n• Bourriches d'huitres\n• Air Fryer\n• Cartes Cadea
 ux Leclerc / Illicado\n• Montre connectée\n• Canard Gras avec Foie\n
 • Magrets farcis au foie gras\n• Paniers garnis\n• Aspirateur Robot\
 n• Appareil à Fondue / Raclette\n• Etc ...\n\n??? Une tombola sera é
 galement organisée sur place !\n\n?? Sur place :\n• Buvette\n• Beigne
 ts & crêpes maison\n\n?? Réservations conseillées auprès de Jean-Marie
  : 06 80 62 09 29\n?? Attention : places limitées à 300 participants !\n
CATEGORIES:Jeux
LOCATION:Salle de la Pépite\, Salle de la Pépite\, Jumilhac-le-Grand\, Fr
 ance
GEO:45.4962702;1.06043552
X-APPLE-STRUCTURED-LOCATION;VALUE=URI;X-ADDRESS=Salle de la Pépite\, Jumil
 hac-le-Grand\, France;X-APPLE-RADIUS=100;X-TITLE=Salle de la Pépite:geo:4
 5.4962702,1.06043552
END:VEVENT
BEGIN:VTIMEZONE
TZID:Europe/Paris
X-LIC-LOCATION:Europe/Paris
BEGIN:STANDARD
DTSTART:20251026T020000
TZOFFSETFROM:+0200
TZOFFSETTO:+0100
TZNAME:CET
END:STANDARD
END:VTIMEZONE
END:VCALENDAR