BEGIN:VCALENDAR
VERSION:2.0
PRODID:-//wp-events-plugin.com//7.2.3.1//EN
TZID:Europe/Paris
X-WR-TIMEZONE:Europe/Paris
BEGIN:VEVENT
UID:3868@agenda24.fr
DTSTART;TZID=Europe/Paris:20241031T160000
DTEND;TZID=Europe/Paris:20241031T160000
DTSTAMP:20241030T085653Z
URL:https://agenda24.fr/evenements/gouter-autour-de-lunivers-dharry-potter
 /
SUMMARY:Goûter autour de l'univers d'Harry Potter
DESCRIPTION:
CATEGORIES:Evènement à thème
LOCATION:Médiathèque de Brantôme\, Médiathèque de Brantôme\, Brantôm
 e\, France
GEO:45.3646367;0.64730280
X-APPLE-STRUCTURED-LOCATION;VALUE=URI;X-ADDRESS=Médiathèque de Brantôme\
 , Brantôme\, France;X-APPLE-RADIUS=100;X-TITLE=Médiathèque de Brantôme
 :geo:45.3646367,0.64730280
END:VEVENT
BEGIN:VTIMEZONE
TZID:Europe/Paris
X-LIC-LOCATION:Europe/Paris
BEGIN:STANDARD
DTSTART:20241027T020000
TZOFFSETFROM:+0200
TZOFFSETTO:+0100
TZNAME:CET
END:STANDARD
END:VTIMEZONE
END:VCALENDAR