BEGIN:VCALENDAR
VERSION:2.0
PRODID:-//wp-events-plugin.com//7.2.3.1//EN
TZID:Europe/Paris
X-WR-TIMEZONE:Europe/Paris
BEGIN:VEVENT
UID:11662@agenda24.fr
DTSTART;TZID=Europe/Paris:20260326T123000
DTEND;TZID=Europe/Paris:20260326T123000
DTSTAMP:20260225T082208Z
URL:https://agenda24.fr/evenements/girlpower-les-femmes-dans-la-mythologie
 /
SUMMARY:Girlpower - Les femmes dans la mythologie
DESCRIPTION:
CATEGORIES:Rencontre / Conférence / Discussion
LOCATION:Musée d'Art et d'Archéologie du Périgord\, 22 cours Tourny\, P
 érigueux\, France
GEO:45.186107;0.723093
X-APPLE-STRUCTURED-LOCATION;VALUE=URI;X-ADDRESS=22 cours Tourny\, Périgueu
 x\, France;X-APPLE-RADIUS=100;X-TITLE=Musée d'Art et d'Archéologie du P
 érigord:geo:45.186107,0.723093
END:VEVENT
BEGIN:VTIMEZONE
TZID:Europe/Paris
X-LIC-LOCATION:Europe/Paris
BEGIN:STANDARD
DTSTART:20251026T020000
TZOFFSETFROM:+0200
TZOFFSETTO:+0100
TZNAME:CET
END:STANDARD
END:VTIMEZONE
END:VCALENDAR