BEGIN:VCALENDAR
VERSION:2.0
PRODID:-//wp-events-plugin.com//7.2.3.1//EN
TZID:Europe/Paris
X-WR-TIMEZONE:Europe/Paris
BEGIN:VEVENT
UID:9661@agenda24.fr
DTSTART;TZID=Europe/Paris:20251116T160000
DTEND;TZID=Europe/Paris:20251116T160000
DTSTAMP:20251101T090408Z
URL:https://agenda24.fr/evenements/gala-des-restos-du-coeur/
SUMMARY:Gala des Restos du Coeur
DESCRIPTION:• Jean-Michel Laurent chantera Johnny\n• Valérie K chanter
 a Barbara\n• Djalma chantera son répertoire\n• Daniel L’homond cont
 era une histoire\n• Daniel Chavaroche et Jean Bonnefon accompagnés de J
 acques Gandon à la guitare interpréteront des extraits du concert de Pei
 raguda\n\nRéservation souhaitée ou sur place le jour même
CATEGORIES:Soirées dansantes
LOCATION:Centre Culturel\, Centre Culturel\, Sarlat-La-Canéda\, France
GEO:44.8930677;1.2144238
X-APPLE-STRUCTURED-LOCATION;VALUE=URI;X-ADDRESS=Centre Culturel\, Sarlat-La
 -Canéda\, France;X-APPLE-RADIUS=100;X-TITLE=Centre Culturel:geo:44.893067
 7,1.2144238
END:VEVENT
BEGIN:VTIMEZONE
TZID:Europe/Paris
X-LIC-LOCATION:Europe/Paris
BEGIN:STANDARD
DTSTART:20251026T020000
TZOFFSETFROM:+0200
TZOFFSETTO:+0100
TZNAME:CET
END:STANDARD
END:VTIMEZONE
END:VCALENDAR