BEGIN:VCALENDAR
VERSION:2.0
PRODID:-//wp-events-plugin.com//7.2.3.1//EN
TZID:Europe/Paris
X-WR-TIMEZONE:Europe/Paris
BEGIN:VEVENT
UID:5730@agenda24.fr
DTSTART;TZID=Europe/Paris:20250412T190000
DTEND;TZID=Europe/Paris:20250412T190000
DTSTAMP:20250326T135042Z
URL:https://agenda24.fr/evenements/fred-blondin-en-concert-a-plazac/
SUMMARY:Fred Blondin en concert à Plazac
DESCRIPTION:Soirée 100% chanson française avec Fred Blondin\, auteur\, co
 mpositeur de Johnny Halliday\, Michel Sardou\, Yannick Noah\, Patricia Kaa
 s).\nEn première partie le groupe "Provisoire" vous accompagne pour l'ap
 éro.\n\nPensez à réserver !
CATEGORIES:Concert
LOCATION:Salle des fêtes\, 1 allée du prunus \, Plazac\, France
GEO:45.0330795;1.040931
X-APPLE-STRUCTURED-LOCATION;VALUE=URI;X-ADDRESS=1 allée du prunus \, Plaza
 c\, France;X-APPLE-RADIUS=100;X-TITLE=Salle des fêtes:geo:45.0330795,1.04
 0931
END:VEVENT
BEGIN:VTIMEZONE
TZID:Europe/Paris
X-LIC-LOCATION:Europe/Paris
BEGIN:DAYLIGHT
DTSTART:20250330T030000
TZOFFSETFROM:+0100
TZOFFSETTO:+0200
TZNAME:CEST
END:DAYLIGHT
END:VTIMEZONE
END:VCALENDAR