BEGIN:VCALENDAR
VERSION:2.0
PRODID:-//wp-events-plugin.com//7.2.3.1//EN
TZID:Europe/Paris
X-WR-TIMEZONE:Europe/Paris
BEGIN:VEVENT
UID:5235@agenda24.fr
DTSTART;TZID=Europe/Paris:20250313T130000
DTEND;TZID=Europe/Paris:20250313T170000
DTSTAMP:20250213T103021Z
URL:https://agenda24.fr/evenements/forum-des-jobs-dete/
SUMMARY:Forum des jobs d'été
DESCRIPTION:Trouve ton job !\nEmployeurs privés et publics du territoire\,
  vous pouvez faire connaître vos offres d'emplois saisonniers aux jeunes 
 ainsi qu'aux demandeurs d'emploi et au grand public ! La participation est
  gratuite.
CATEGORIES:Marché / Foire / Brocante
LOCATION:Salle du château\, Salle du château\, Excideuil\, France
GEO:45.3346203;1.04890126
X-APPLE-STRUCTURED-LOCATION;VALUE=URI;X-ADDRESS=Salle du château\, Excideu
 il\, France;X-APPLE-RADIUS=100;X-TITLE=Salle du château:geo:45.3346203,1.
 04890126
END:VEVENT
BEGIN:VTIMEZONE
TZID:Europe/Paris
X-LIC-LOCATION:Europe/Paris
BEGIN:STANDARD
DTSTART:20241027T020000
TZOFFSETFROM:+0200
TZOFFSETTO:+0100
TZNAME:CET
END:STANDARD
END:VTIMEZONE
END:VCALENDAR