BEGIN:VCALENDAR
VERSION:2.0
PRODID:-//wp-events-plugin.com//7.2.3.1//EN
TZID:Europe/Paris
X-WR-TIMEZONE:Europe/Paris
BEGIN:VEVENT
UID:3869@agenda24.fr
DTSTART;TZID=Europe/Paris:20241116T110000
DTEND;TZID=Europe/Paris:20241116T123000
DTSTAMP:20241030T085627Z
URL:https://agenda24.fr/evenements/forum-des-associations-2/
SUMMARY:Forum des associations
DESCRIPTION:
CATEGORIES:Evènement à thème
LOCATION:Salle des fêtes\, Salle des fêtes\, le Pizou\, France
GEO:45.0257837;0.06439445
X-APPLE-STRUCTURED-LOCATION;VALUE=URI;X-ADDRESS=Salle des fêtes\, le Pizou
 \, France;X-APPLE-RADIUS=100;X-TITLE=Salle des fêtes:geo:45.0257837,0.064
 39445
END:VEVENT
BEGIN:VTIMEZONE
TZID:Europe/Paris
X-LIC-LOCATION:Europe/Paris
BEGIN:STANDARD
DTSTART:20241027T020000
TZOFFSETFROM:+0200
TZOFFSETTO:+0100
TZNAME:CET
END:STANDARD
END:VTIMEZONE
END:VCALENDAR