BEGIN:VCALENDAR
VERSION:2.0
PRODID:-//wp-events-plugin.com//7.2.3.1//EN
TZID:Europe/Paris
X-WR-TIMEZONE:Europe/Paris
BEGIN:VEVENT
UID:11666@agenda24.fr
DTSTART;TZID=Europe/Paris:20260324T203000
DTEND;TZID=Europe/Paris:20260324T230000
DTSTAMP:20260305T100608Z
URL:https://agenda24.fr/evenements/film-on-vous-croit/
SUMMARY:Ciné-débat - On vous croit
DESCRIPTION:Femmes Solidaires Périgord Vert organise une projection du fil
 m On vous croit\, suivi d'un débat.\n\nen partenariat avec Cinema Passion
 .\n\nCe film parle des défis d'une mère face à la justice.\n\n&nbsp\;\n
 \nPrésence du CIDFF\, Centre d'informations des droits des femmes et des 
 familles et d'une avocate pour le débat qui suivra la projection.
CATEGORIES:Cinéma,Militant,Rencontre / Conférence / Discussion
LOCATION:Cinéma Le Clair Thiviers\, rue du cinéma\, Thiviers\, Dordogne\,
  24800\, Nouvelle Aquitaine\, France
X-APPLE-STRUCTURED-LOCATION;VALUE=URI;X-ADDRESS=rue du cinéma\, Thiviers\,
  Dordogne\, 24800\, Nouvelle Aquitaine\, France;X-APPLE-RADIUS=100;X-TITLE
 =Cinéma Le Clair Thiviers:geo:0,0
END:VEVENT
BEGIN:VTIMEZONE
TZID:Europe/Paris
X-LIC-LOCATION:Europe/Paris
BEGIN:STANDARD
DTSTART:20251026T020000
TZOFFSETFROM:+0200
TZOFFSETTO:+0100
TZNAME:CET
END:STANDARD
END:VTIMEZONE
END:VCALENDAR