BEGIN:VCALENDAR
VERSION:2.0
PRODID:-//wp-events-plugin.com//7.2.3.1//EN
TZID:Europe/Paris
X-WR-TIMEZONE:Europe/Paris
BEGIN:VEVENT
UID:5332@agenda24.fr
DTSTART;TZID=Europe/Paris:20250219T103000
DTEND;TZID=Europe/Paris:20250219T103000
DTSTAMP:20250213T102942Z
URL:https://agenda24.fr/evenements/fevrier-gourmand-visite-gourmande-de-sa
 rlat-decouverte-du-foie-gras/
SUMMARY:Février Gourmand - Visite gourmande de Sarlat\, découverte du foi
 e gras
DESCRIPTION:Partez  à  la  découverte  de  Sarlat  :  ses  ruelles  tortu
 euses\,  ses  passages  voûtés\,  sa  cathédrale  et  ses  hôtels  par
 ticuliers  des  XVe  et  XVIe  siècles.  Au  fil  de  la  visite\,  les  
 siècles  d’histoire  se  déroulent.  Les  événements marquants sont 
 bien sûr évoqués mais certains secrets bien gardés vous seront égalem
 ent révélés !\n\nCette visite sera suivie d'une initiation et dégustat
 ion de foie gras avec la Maison Pelegris. \nPercez tous les secrets de cet
  incontournable de la gastronomie périgourdine !\n
CATEGORIES:Tourisme / Patrimoine
LOCATION:3 rue Tourny\, 3 rue Tourny\, Sarlat-La-Canéda\, France
GEO:44.8884643;1.21662855
X-APPLE-STRUCTURED-LOCATION;VALUE=URI;X-ADDRESS=3 rue Tourny\, Sarlat-La-Ca
 néda\, France;X-APPLE-RADIUS=100;X-TITLE=3 rue Tourny:geo:44.8884643,1.21
 662855
END:VEVENT
BEGIN:VTIMEZONE
TZID:Europe/Paris
X-LIC-LOCATION:Europe/Paris
BEGIN:STANDARD
DTSTART:20241027T020000
TZOFFSETFROM:+0200
TZOFFSETTO:+0100
TZNAME:CET
END:STANDARD
END:VTIMEZONE
END:VCALENDAR