BEGIN:VCALENDAR
VERSION:2.0
PRODID:-//wp-events-plugin.com//7.2.3.1//EN
TZID:Europe/Paris
X-WR-TIMEZONE:Europe/Paris
BEGIN:VEVENT
UID:5970@agenda24.fr
DTSTART;TZID=Europe/Paris:20250330T100000
DTEND;TZID=Europe/Paris:20250330T180000
DTSTAMP:20250326T140643Z
URL:https://agenda24.fr/evenements/fete-du-printemps-et-de-la-nature/
SUMMARY:Fête du Printemps et de la Nature
DESCRIPTION:Venez célébrer le printemps\, la nature et la biodiversité a
 utour du nouvel espace écologique et de loisirs aménagé sur la commune.
  \nToute la journée dans la salle des fêtes\, découvrez des artisans lo
 caux\, exposants autour du thème de la nature : botanistes\, apiculteur\,
  plantes médicinales\, auteurs\, créateurs. \nUn marché de producteurs 
 de pays avec la chambre d'Agriculture de la Dordogne\, Bienvenue à la fer
 me sera présent toute la journée pour vous restaurer et faire des achats
  de produits locaux de qualité.\nLa journée sera rythmée par plusieurs 
 ateliers\, animations autour de la biodiversité : \n- découverte des amp
 hibiens des zones humides\n- exposition ludique "Jardiner au naturel"\n- f
 abrication d'une mangeoire à oiseaux\n- modelage d'argile et land'art.\nP
 our l'après-midi une randonnée patrimoine de 6 km à 14h30 à la découv
 erte du bourg et de l'étang de Sauge sera proposée sur réservation.
CATEGORIES:Marché / Foire / Brocante
LOCATION:salle des fêtes et espace écologique\, 50 Allée Colonel Arnaud 
 Beltrame\, Saint-Crepin-D'auberoche\, France
GEO:45.1242716;0.88968635
X-APPLE-STRUCTURED-LOCATION;VALUE=URI;X-ADDRESS=50 Allée Colonel Arnaud Be
 ltrame\, Saint-Crepin-D'auberoche\, France;X-APPLE-RADIUS=100;X-TITLE=sall
 e des fêtes et espace écologique:geo:45.1242716,0.88968635
END:VEVENT
BEGIN:VTIMEZONE
TZID:Europe/Paris
X-LIC-LOCATION:Europe/Paris
BEGIN:DAYLIGHT
DTSTART:20250330T030000
TZOFFSETFROM:+0100
TZOFFSETTO:+0200
TZNAME:CEST
END:DAYLIGHT
END:VTIMEZONE
END:VCALENDAR