BEGIN:VCALENDAR
VERSION:2.0
PRODID:-//wp-events-plugin.com//7.2.3.1//EN
TZID:Europe/Paris
X-WR-TIMEZONE:Europe/Paris
BEGIN:VEVENT
UID:5947@agenda24.fr
DTSTART;TZID=Europe/Paris:20250420T100000
DTEND;TZID=Europe/Paris:20250420T190000
DTSTAMP:20250326T140650Z
URL:https://agenda24.fr/evenements/fete-des-plantes-2/
SUMMARY:Fête des plantes
DESCRIPTION:Préparez vos plantations de printemps.\n\nDes producteurs et d
 es artisans du végétal vous attendent : \n\n     - Pépinière ESPACE VI
 VACE : Plantes vivaces \, graminées\, arbustes d'ornement.\n     - AROMAT
 IGNAC : Plantes aromatiques\, plants de légumes\, en culture raisonnée.\
 n     - Jean-Philippe RAY : Arbres d'ombrage et d'ornement. Arbustes à fl
 eurs et à fruits\n     - AQUATICGARDEN : Nymphéas et plantes aquatiques\
 n     - O BON PLANT : Plants de légumes issus de l'agriculture biologique
 \n     - AUX SOLEIL DE MANAM : Agrumes\, plants d'agrumes rustiques\n     
 - BRICHARD Pauline : Bijoux en bois local et estampes végétales\n     - 
 EYMET LES IRIS EN BASTIDE : Collection d'Iris barbus (Iris de jardins)\n  
    - LES JARDINS DE LAUSSAGNE : Vanneries décoratives\, créations floral
 es\n\nSans réservation préalable.\n\nCette animation est prévue en ext
 érieur sans possibilité de repli à l'intérieur.
CATEGORIES:Marché / Foire / Brocante
LOCATION:Château du Clauzuroux\, 50 impasse du château de Clauzuroux\, Ch
 ampagne-et-Fontaine\, France
GEO:45.4099543;0.35559725
X-APPLE-STRUCTURED-LOCATION;VALUE=URI;X-ADDRESS=50 impasse du château de C
 lauzuroux\, Champagne-et-Fontaine\, France;X-APPLE-RADIUS=100;X-TITLE=Châ
 teau du Clauzuroux:geo:45.4099543,0.35559725
END:VEVENT
BEGIN:VTIMEZONE
TZID:Europe/Paris
X-LIC-LOCATION:Europe/Paris
BEGIN:DAYLIGHT
DTSTART:20250330T030000
TZOFFSETFROM:+0100
TZOFFSETTO:+0200
TZNAME:CEST
END:DAYLIGHT
END:VTIMEZONE
END:VCALENDAR