BEGIN:VCALENDAR
VERSION:2.0
PRODID:-//wp-events-plugin.com//7.2.3.1//EN
TZID:Europe/Paris
X-WR-TIMEZONE:Europe/Paris
BEGIN:VEVENT
UID:5958@agenda24.fr
DTSTART;TZID=Europe/Paris:20250426T090000
DTEND;TZID=Europe/Paris:20250426T180000
DTSTAMP:20250326T140649Z
URL:https://agenda24.fr/evenements/fete-des-fleurs/
SUMMARY:Fête des fleurs
DESCRIPTION:Découvrez Issigeac sous les fleurs et profitez de cette journ
 ée pour enrichir et orner vos jardins et maisons ! De nombreux stands de 
  fleurs\, plantes aromatiques\, arbustes et objets de décoration pour le 
 jardin ainsi que des produits régionaux. 
CATEGORIES:Marché / Foire / Brocante
LOCATION:Parking de la Banège\, Route de Bergerac\, Issigeac\, France
GEO:44.7313201;0.60514484
X-APPLE-STRUCTURED-LOCATION;VALUE=URI;X-ADDRESS=Route de Bergerac\, Issigea
 c\, France;X-APPLE-RADIUS=100;X-TITLE=Parking de la Banège:geo:44.7313201
 ,0.60514484
END:VEVENT
BEGIN:VTIMEZONE
TZID:Europe/Paris
X-LIC-LOCATION:Europe/Paris
BEGIN:DAYLIGHT
DTSTART:20250330T030000
TZOFFSETFROM:+0100
TZOFFSETTO:+0200
TZNAME:CEST
END:DAYLIGHT
END:VTIMEZONE
END:VCALENDAR