BEGIN:VCALENDAR
VERSION:2.0
PRODID:-//wp-events-plugin.com//7.2.3.1//EN
TZID:Europe/Paris
X-WR-TIMEZONE:Europe/Paris
BEGIN:VEVENT
UID:5617@agenda24.fr
DTSTART;TZID=Europe/Paris;VALUE=DATE:20250406
DTEND;TZID=Europe/Paris;VALUE=DATE:20250407
DTSTAMP:20250326T123759Z
URL:https://agenda24.fr/evenements/fete-des-fleurs-organisee-par-castifest
 ival-et-the-amo/
SUMMARY:Fête des fleurs organisée par Castifestival et Thé Amo
DESCRIPTION:Mauvaises herbes parmi les fleurs (ou libraires parmi les horti
 culteur.ice.s) nous vous proposerons une sélection éclectique de livres 
 sur le jardinage\, la nature et la permaculture à la Fête des fleurs de 
 Castillonnès organisée par Castifestival et Thé Amo.\n\nOn a déjà hâ
 te d'y être !\n\n
CATEGORIES:Evènement à thème
LOCATION:Castillonnès\, Castillonnès\, Castillonnès\, France
X-APPLE-STRUCTURED-LOCATION;VALUE=URI;X-ADDRESS=Castillonnès\, Castillonn
 ès\, France;X-APPLE-RADIUS=100;X-TITLE=Castillonnès:geo:0,0
END:VEVENT
BEGIN:VTIMEZONE
TZID:Europe/Paris
X-LIC-LOCATION:Europe/Paris
BEGIN:DAYLIGHT
DTSTART:20250330T030000
TZOFFSETFROM:+0100
TZOFFSETTO:+0200
TZNAME:CEST
END:DAYLIGHT
END:VTIMEZONE
END:VCALENDAR