BEGIN:VCALENDAR
VERSION:2.0
PRODID:-//wp-events-plugin.com//7.2.3.1//EN
TZID:Europe/Paris
X-WR-TIMEZONE:Europe/Paris
BEGIN:VEVENT
UID:10214@agenda24.fr
DTSTART;TZID=Europe/Paris:20251212T170000
DTEND;TZID=Europe/Paris:20251212T170000
DTSTAMP:20251210T134244Z
URL:https://agenda24.fr/evenements/fete-de-la-lumiere-3/
SUMMARY:Fête de la lumière
DESCRIPTION:17h : visite nocturne de l'église et des grottes de l'abbaye d
 e Brantôme (gratuite). Sur réservation.\n18h : dépôt de bougies sur le
  Pont Coudé.\n18h45 : arrivée du Père Noël sur le parvis de l'abbaye.\
 n20h : projection micro-folies à l'office de tourisme.\nToute la soirée 
 ambiance musicale par "Histoire2Voir". \nVente de vin chaud.
CATEGORIES:Evènement à thème
LOCATION:Brantôme\, Brantôme\, Brantôme\, France
GEO:45.364337;0.647156
X-APPLE-STRUCTURED-LOCATION;VALUE=URI;X-ADDRESS=Brantôme\, Brantôme\, Fra
 nce;X-APPLE-RADIUS=100;X-TITLE=Brantôme:geo:45.364337,0.647156
END:VEVENT
BEGIN:VTIMEZONE
TZID:Europe/Paris
X-LIC-LOCATION:Europe/Paris
BEGIN:STANDARD
DTSTART:20251026T020000
TZOFFSETFROM:+0200
TZOFFSETTO:+0100
TZNAME:CET
END:STANDARD
END:VTIMEZONE
END:VCALENDAR