BEGIN:VCALENDAR
VERSION:2.0
PRODID:-//wp-events-plugin.com//7.2.3.1//EN
TZID:Europe/Paris
X-WR-TIMEZONE:Europe/Paris
BEGIN:VEVENT
UID:3837@agenda24.fr
DTSTART;TZID=Europe/Paris:20241123T110000
DTEND;TZID=Europe/Paris:20241123T235900
DTSTAMP:20241030T085702Z
URL:https://agenda24.fr/evenements/festival-perijeux-2/
SUMMARY:Festival PériJeux
DESCRIPTION:
CATEGORIES:Dédié aux enfants
LOCATION:La Filature de L'Isle\, 15 Chemin des Feutres du Toulon\, Périgue
 ux\, France
GEO:45.19832;0.69849
X-APPLE-STRUCTURED-LOCATION;VALUE=URI;X-ADDRESS=15 Chemin des Feutres du To
 ulon\, Périgueux\, France;X-APPLE-RADIUS=100;X-TITLE=La Filature de L'Isl
 e:geo:45.19832,0.69849
END:VEVENT
BEGIN:VTIMEZONE
TZID:Europe/Paris
X-LIC-LOCATION:Europe/Paris
BEGIN:STANDARD
DTSTART:20241027T020000
TZOFFSETFROM:+0200
TZOFFSETTO:+0100
TZNAME:CET
END:STANDARD
END:VTIMEZONE
END:VCALENDAR