BEGIN:VCALENDAR
VERSION:2.0
PRODID:-//wp-events-plugin.com//7.2.3.1//EN
TZID:Europe/Paris
X-WR-TIMEZONE:Europe/Paris
BEGIN:VEVENT
UID:8359@agenda24.fr
DTSTART;TZID=Europe/Paris:20250927T173000
DTEND;TZID=Europe/Paris:20250928T180000
DTSTAMP:20250910T221536Z
URL:https://agenda24.fr/evenements/festival-le-petit-toit-detoiles-theatre
 -concerts-contes-batucada-etc/
SUMMARY:Festival - Le petit toit d'étoiles (théâtre\, concerts\, contes\
 , batucada\, etc.)
DESCRIPTION:\n\nVous l'attendiez avec impatience\, voici le programme du Pe
 tit Toit d'Etoiles 2025 !\n\n\n𝐒𝐚𝐦𝐞𝐝𝐢 𝟐𝟕 𝐬𝐞
 𝐩𝐭𝐞𝐦𝐛𝐫𝐞\n-17h30 Ouverture du festivalMot de bienvenue
 -18hThéâtre de rue LES CRIEURSParvis de l’église / 45 minTout public 
 / 6 €-21hFusion/jazz CONCERT CLUB SANDWINCHCours de l’école / tout pu
 blic / 6 €-22h30Électro-balkan/dubstep CONCERT DJ FUNKOFF\n𝐃𝐢𝐦
 𝐚𝐧𝐜𝐡𝐞 𝟐𝟖 𝐬𝐞𝐩𝐭𝐞𝐦𝐛𝐫𝐞\n-14hBa
 tucada BATUCAGOUILLESParvis de l’église / 3 passages de 20 minGratuit-1
 4h30 Compagnie PittoresqueConte musical L’HISTOIRE QUI CONTEet acrobatiq
 ue Place de l’église / 45 minTout public à partir de 5 ans / 6 €-15h
 30Batucada BATUCAGOUILLESParvis de l’église / 3 passages de 20 minGratu
 it-16h00 Cie i.SiDuo clownesque et musical ISI ET LÀPlace de l’église 
 / 50 minTout public à partir de 7 ans / 6 €Cours de l’école / tout p
 ublic-17hBatucada BATUCAGOUILLESParvis de l’église / 3 passages de 20 m
 inGratuit
CATEGORIES:Festival
LOCATION:Café associatif de Léguillace de Cercles\, 776 Rte du Notaire De
 smaison\, Léguillac de Cercles\, 24340\, France
X-APPLE-STRUCTURED-LOCATION;VALUE=URI;X-ADDRESS=776 Rte du Notaire Desmaiso
 n\, Léguillac de Cercles\, 24340\, France;X-APPLE-RADIUS=100;X-TITLE=Caf
 é associatif de Léguillace de Cercles:geo:0,0
END:VEVENT
BEGIN:VTIMEZONE
TZID:Europe/Paris
X-LIC-LOCATION:Europe/Paris
BEGIN:DAYLIGHT
DTSTART:20250330T030000
TZOFFSETFROM:+0100
TZOFFSETTO:+0200
TZNAME:CEST
END:DAYLIGHT
END:VTIMEZONE
END:VCALENDAR